BEGIN:VCALENDAR
VERSION:2.0
PRODID:-//Nick Charles - Guitarist - ECPv6.15.20//NONSGML v1.0//EN
CALSCALE:GREGORIAN
METHOD:PUBLISH
X-WR-CALNAME:Nick Charles - Guitarist
X-ORIGINAL-URL:https://charlesguitar.com
X-WR-CALDESC:Events for Nick Charles - Guitarist
REFRESH-INTERVAL;VALUE=DURATION:PT1H
X-Robots-Tag:noindex
X-PUBLISHED-TTL:PT1H
BEGIN:VTIMEZONE
TZID:Australia/Melbourne
BEGIN:STANDARD
TZOFFSETFROM:+1100
TZOFFSETTO:+1000
TZNAME:AEST
DTSTART:20220402T160000
END:STANDARD
BEGIN:DAYLIGHT
TZOFFSETFROM:+1000
TZOFFSETTO:+1100
TZNAME:AEDT
DTSTART:20221001T160000
END:DAYLIGHT
BEGIN:STANDARD
TZOFFSETFROM:+1100
TZOFFSETTO:+1000
TZNAME:AEST
DTSTART:20230401T160000
END:STANDARD
BEGIN:DAYLIGHT
TZOFFSETFROM:+1000
TZOFFSETTO:+1100
TZNAME:AEDT
DTSTART:20230930T160000
END:DAYLIGHT
BEGIN:STANDARD
TZOFFSETFROM:+1100
TZOFFSETTO:+1000
TZNAME:AEST
DTSTART:20240406T160000
END:STANDARD
BEGIN:DAYLIGHT
TZOFFSETFROM:+1000
TZOFFSETTO:+1100
TZNAME:AEDT
DTSTART:20241005T160000
END:DAYLIGHT
END:VTIMEZONE
BEGIN:VEVENT
DTSTART;TZID=Australia/Melbourne:20231203T170000
DTEND;TZID=Australia/Melbourne:20231203T200000
DTSTAMP:20260426T030130
CREATED:20231024T065600Z
LAST-MODIFIED:20231024T065600Z
UID:2464-1701622800-1701633600@charlesguitar.com
SUMMARY:MICK PEALING AND NICK CHARLES WITH THE LONG ROAD HOME
DESCRIPTION:An absolute hit last time at the iconic Lomond with Mick\, Nick and The Long Road Home. \nPlease book to be sure of a good seat…it pulls a crowd. You’ll love it. The band kicks off at 5pm.
URL:https://charlesguitar.com/event/mick-pealing-and-nick-charles-with-the-long-road-home-2/
LOCATION:Lomond Hotel\, 225 Nicholson Street\, Brunswick\, Victoria\, 3057\, Australia
CATEGORIES:Band Gigs,Ticketed gigs
ATTACH;FMTTYPE=image/jpeg:https://charlesguitar.com/wp-content/uploads/2023/10/the-band.jpg
END:VEVENT
END:VCALENDAR