BEGIN:VCALENDAR
VERSION:2.0
PRODID:-//Nick Charles - Guitarist - ECPv6.15.20//NONSGML v1.0//EN
CALSCALE:GREGORIAN
METHOD:PUBLISH
X-WR-CALNAME:Nick Charles - Guitarist
X-ORIGINAL-URL:https://charlesguitar.com
X-WR-CALDESC:Events for Nick Charles - Guitarist
REFRESH-INTERVAL;VALUE=DURATION:PT1H
X-Robots-Tag:noindex
X-PUBLISHED-TTL:PT1H
BEGIN:VTIMEZONE
TZID:Australia/Melbourne
BEGIN:STANDARD
TZOFFSETFROM:+1100
TZOFFSETTO:+1000
TZNAME:AEST
DTSTART:20230401T160000
END:STANDARD
BEGIN:DAYLIGHT
TZOFFSETFROM:+1000
TZOFFSETTO:+1100
TZNAME:AEDT
DTSTART:20230930T160000
END:DAYLIGHT
BEGIN:STANDARD
TZOFFSETFROM:+1100
TZOFFSETTO:+1000
TZNAME:AEST
DTSTART:20240406T160000
END:STANDARD
BEGIN:DAYLIGHT
TZOFFSETFROM:+1000
TZOFFSETTO:+1100
TZNAME:AEDT
DTSTART:20241005T160000
END:DAYLIGHT
BEGIN:STANDARD
TZOFFSETFROM:+1100
TZOFFSETTO:+1000
TZNAME:AEST
DTSTART:20250405T160000
END:STANDARD
BEGIN:DAYLIGHT
TZOFFSETFROM:+1000
TZOFFSETTO:+1100
TZNAME:AEDT
DTSTART:20251004T160000
END:DAYLIGHT
END:VTIMEZONE
BEGIN:VEVENT
DTSTART;TZID=Australia/Melbourne:20240127T183000
DTEND;TZID=Australia/Melbourne:20240127T213000
DTSTAMP:20260420T044656
CREATED:20240113T032026Z
LAST-MODIFIED:20240113T032026Z
UID:2508-1706380200-1706391000@charlesguitar.com
SUMMARY:Nick  Charles - solo
DESCRIPTION:A delightful little restaurant in downtown Essendon. Food to die for! \nA great summer evening of outdoor music and dining!
URL:https://charlesguitar.com/event/nick-charles-solo-2/
LOCATION:Little Fletcher Cafe\, 55 Fletcher Street\, Essendon\, Victoria\, 3040\, Australia
ATTACH;FMTTYPE=image/jpeg:https://charlesguitar.com/wp-content/uploads/2024/01/Little-Fletcher.jpg
END:VEVENT
END:VCALENDAR