BEGIN:VCALENDAR
VERSION:2.0
PRODID:-//Nick Charles - Guitarist - ECPv6.15.20//NONSGML v1.0//EN
CALSCALE:GREGORIAN
METHOD:PUBLISH
X-ORIGINAL-URL:https://charlesguitar.com
X-WR-CALDESC:Events for Nick Charles - Guitarist
REFRESH-INTERVAL;VALUE=DURATION:PT1H
X-Robots-Tag:noindex
X-PUBLISHED-TTL:PT1H
BEGIN:VTIMEZONE
TZID:Australia/Melbourne
BEGIN:STANDARD
TZOFFSETFROM:+1100
TZOFFSETTO:+1000
TZNAME:AEST
DTSTART:20230401T160000
END:STANDARD
BEGIN:DAYLIGHT
TZOFFSETFROM:+1000
TZOFFSETTO:+1100
TZNAME:AEDT
DTSTART:20230930T160000
END:DAYLIGHT
BEGIN:STANDARD
TZOFFSETFROM:+1100
TZOFFSETTO:+1000
TZNAME:AEST
DTSTART:20240406T160000
END:STANDARD
BEGIN:DAYLIGHT
TZOFFSETFROM:+1000
TZOFFSETTO:+1100
TZNAME:AEDT
DTSTART:20241005T160000
END:DAYLIGHT
BEGIN:STANDARD
TZOFFSETFROM:+1100
TZOFFSETTO:+1000
TZNAME:AEST
DTSTART:20250405T160000
END:STANDARD
BEGIN:DAYLIGHT
TZOFFSETFROM:+1000
TZOFFSETTO:+1100
TZNAME:AEDT
DTSTART:20251004T160000
END:DAYLIGHT
END:VTIMEZONE
BEGIN:VEVENT
DTSTART;TZID=Australia/Melbourne:20240210T190000
DTEND;TZID=Australia/Melbourne:20240210T223000
DTSTAMP:20260420T030643
CREATED:20240128T063550Z
LAST-MODIFIED:20240128T063550Z
UID:2522-1707591600-1707604200@charlesguitar.com
SUMMARY:STARS
DESCRIPTION:Presenting and recording live the entire iconic album Paradise. The album featured Stars hits Look After Yourself and The Mighty Rock. \nThe event is sold out!
URL:https://charlesguitar.com/event/stars/
LOCATION:Victoria
CATEGORIES:Band Gigs,Ticketed gigs
ATTACH;FMTTYPE=image/jpeg:https://charlesguitar.com/wp-content/uploads/2023/08/STARS.jpeg
END:VEVENT
END:VCALENDAR