BEGIN:VCALENDAR
VERSION:2.0
PRODID:-//Nick Charles - Guitarist - ECPv6.15.20//NONSGML v1.0//EN
CALSCALE:GREGORIAN
METHOD:PUBLISH
X-WR-CALNAME:Nick Charles - Guitarist
X-ORIGINAL-URL:https://charlesguitar.com
X-WR-CALDESC:Events for Nick Charles - Guitarist
REFRESH-INTERVAL;VALUE=DURATION:PT1H
X-Robots-Tag:noindex
X-PUBLISHED-TTL:PT1H
BEGIN:VTIMEZONE
TZID:Australia/Melbourne
BEGIN:STANDARD
TZOFFSETFROM:+1100
TZOFFSETTO:+1000
TZNAME:AEST
DTSTART:20230401T160000
END:STANDARD
BEGIN:DAYLIGHT
TZOFFSETFROM:+1000
TZOFFSETTO:+1100
TZNAME:AEDT
DTSTART:20230930T160000
END:DAYLIGHT
BEGIN:STANDARD
TZOFFSETFROM:+1100
TZOFFSETTO:+1000
TZNAME:AEST
DTSTART:20240406T160000
END:STANDARD
BEGIN:DAYLIGHT
TZOFFSETFROM:+1000
TZOFFSETTO:+1100
TZNAME:AEDT
DTSTART:20241005T160000
END:DAYLIGHT
BEGIN:STANDARD
TZOFFSETFROM:+1100
TZOFFSETTO:+1000
TZNAME:AEST
DTSTART:20250405T160000
END:STANDARD
BEGIN:DAYLIGHT
TZOFFSETFROM:+1000
TZOFFSETTO:+1100
TZNAME:AEDT
DTSTART:20251004T160000
END:DAYLIGHT
END:VTIMEZONE
BEGIN:VEVENT
DTSTART;TZID=Australia/Melbourne:20240317T160000
DTEND;TZID=Australia/Melbourne:20240317T180000
DTSTAMP:20260420T013508
CREATED:20240226T041325Z
LAST-MODIFIED:20240226T041325Z
UID:2554-1710691200-1710698400@charlesguitar.com
SUMMARY:Nick Charles - Solo at Naughtons Parkville
DESCRIPTION:Back to a real favourite! Everybody loves the atmosphere of Naughtons Hotel. Two sets of acoustic roots and blues in a charming lounge bar overlooking delightful Royal Parade. \nPlease book a table near the music.
URL:https://charlesguitar.com/event/nick-charles-solo-at-naughtons-parkville/
LOCATION:Naughtons Hotel\, 43 Royal Parade\, Parkville\, Victoria\, 3052\, Australia
CATEGORIES:Free Gigs,Solo Gigs
ATTACH;FMTTYPE=image/png:https://charlesguitar.com/wp-content/uploads/2023/03/Nick-in-concert.png
END:VEVENT
END:VCALENDAR