BEGIN:VCALENDAR
VERSION:2.0
PRODID:-//Nick Charles - Guitarist - ECPv6.15.20//NONSGML v1.0//EN
CALSCALE:GREGORIAN
METHOD:PUBLISH
X-ORIGINAL-URL:https://charlesguitar.com
X-WR-CALDESC:Events for Nick Charles - Guitarist
REFRESH-INTERVAL;VALUE=DURATION:PT1H
X-Robots-Tag:noindex
X-PUBLISHED-TTL:PT1H
BEGIN:VTIMEZONE
TZID:Australia/Melbourne
BEGIN:STANDARD
TZOFFSETFROM:+1100
TZOFFSETTO:+1000
TZNAME:AEST
DTSTART:20230401T160000
END:STANDARD
BEGIN:DAYLIGHT
TZOFFSETFROM:+1000
TZOFFSETTO:+1100
TZNAME:AEDT
DTSTART:20230930T160000
END:DAYLIGHT
BEGIN:STANDARD
TZOFFSETFROM:+1100
TZOFFSETTO:+1000
TZNAME:AEST
DTSTART:20240406T160000
END:STANDARD
BEGIN:DAYLIGHT
TZOFFSETFROM:+1000
TZOFFSETTO:+1100
TZNAME:AEDT
DTSTART:20241005T160000
END:DAYLIGHT
BEGIN:STANDARD
TZOFFSETFROM:+1100
TZOFFSETTO:+1000
TZNAME:AEST
DTSTART:20250405T160000
END:STANDARD
BEGIN:DAYLIGHT
TZOFFSETFROM:+1000
TZOFFSETTO:+1100
TZNAME:AEDT
DTSTART:20251004T160000
END:DAYLIGHT
END:VTIMEZONE
BEGIN:VEVENT
DTSTART;TZID=Australia/Melbourne:20240406T203000
DTEND;TZID=Australia/Melbourne:20240406T220000
DTSTAMP:20260420T001712
CREATED:20240401T031531Z
LAST-MODIFIED:20240401T031531Z
UID:2622-1712435400-1712440800@charlesguitar.com
SUMMARY:Stars!
DESCRIPTION:The band is back in town! Stars take to the stage at the Oakleigh RSL for a concert that will feature the entire recently re-recorded Stars live rendition of the fabled Paradise album as well as a selection of the Pealing/Charles songs from Boundary Rider and One More Circle Round the Sun.
URL:https://charlesguitar.com/event/stars-2/
LOCATION:Oakleigh Music Hall\, 95-97 Drummond Street\, Oakleigh\, Select a State or Province:\, 3166\, Australia
CATEGORIES:Band Gigs,Ticketed gigs
ATTACH;FMTTYPE=image/jpeg:https://charlesguitar.com/wp-content/uploads/2023/08/STARS.jpeg
END:VEVENT
END:VCALENDAR